BEGIN:VCALENDAR
VERSION:2.0
PRODID:GlueUp
CALSCALE:GREGORIAN
BEGIN:VTIMEZONE
TZID:UTC
BEGIN:STANDARD
DTSTART:19700101T000000
TZOFFSETFROM:+0000
TZOFFSETTO:+0000
TZNAME:UTC
END:STANDARD
END:VTIMEZONE
BEGIN:VEVENT
TZ:+00
ORGANIZER;CN=Olivia He:MAILTO:oliviahe@woman-alliance.com
UID:39418-1776669923@https://woman-alliance.glueup.cn
DTSTAMP:20260420T072523Z
DTSTART:20230322T110000Z
DTEND:20230322T133000Z
SUMMARY:#ThriveTogetherTalk ——大胆发声，和“明星导师”学习个人品牌
DESCRIPTION:女性联盟 Women Alliance Group发布活动#ThriveTogetherTalk ——大胆发声，和“明星导师”学习个人品牌\n\n2023年03月22日（19:00 - 21:30）(GMT+8)\n\n更多信息，访问https://woman-alliance.glueup.cn/my/events/39418
LOCATION:群邑 Office - 中国上海静安区恒丰路达邦协作广场 6楼
BEGIN:VALARM
TRIGGER:-PT48H
REPEAT:4
DURATION:PT30M
ACTION:DISPLAY
END:VALARM
END:VEVENT
END:VCALENDAR