BEGIN:VCALENDAR
VERSION:2.0
PRODID:GlueUp
CALSCALE:GREGORIAN
BEGIN:VTIMEZONE
TZID:UTC
BEGIN:STANDARD
DTSTART:19700101T000000
TZOFFSETFROM:+0000
TZOFFSETTO:+0000
TZNAME:UTC
END:STANDARD
END:VTIMEZONE
BEGIN:VEVENT
TZ:+00
ORGANIZER;CN=Olivia He:MAILTO:oliviahe@woman-alliance.com
UID:39388-1776669369@https://woman-alliance.glueup.cn
DTSTAMP:20260420T071609Z
DTSTART:20230319T060000Z
DTEND:20230319T083000Z
SUMMARY:女性阅读——女性书籍《始于极限》共读暨女性阅读空间启动仪式
DESCRIPTION:女性联盟 Women Alliance Group发布活动女性阅读——女性书籍《始于极限》共读暨女性阅读空间启动仪式\n\n2023年03月19日（14:00 - 16:30）(GMT+8)\n\n更多信息，访问https://woman-alliance.glueup.cn/my/events/39388
LOCATION:虹桥国际展汇南区14号楼涟漪空间 - 中国上海闵行区申昆路2177号虹桥国际展汇南区14号楼9层
BEGIN:VALARM
TRIGGER:-PT48H
REPEAT:4
DURATION:PT30M
ACTION:DISPLAY
END:VALARM
END:VEVENT
END:VCALENDAR