BEGIN:VCALENDAR
VERSION:2.0
PRODID:GlueUp
CALSCALE:GREGORIAN
BEGIN:VTIMEZONE
TZID:UTC
BEGIN:STANDARD
DTSTART:19700101T000000
TZOFFSETFROM:+0000
TZOFFSETTO:+0000
TZNAME:UTC
END:STANDARD
END:VTIMEZONE
BEGIN:VEVENT
TZ:+00
ORGANIZER;CN=Olivia He:MAILTO:oliviahe@woman-alliance.com
UID:39405-1776669384@https://woman-alliance.glueup.cn
DTSTAMP:20260420T071624Z
DTSTART:20230323T010000Z
DTEND:20230324T130000Z
SUMMARY:Cross-company activity sharing #IamRemakable
DESCRIPTION:Cross-company activity sharing #IamRemakable by 女性联盟 Women Alliance Group\n\nMar 23 & 24, 2023(GMT+8)\n\nFor more information, click here: https://woman-alliance.glueup.cn/my/events/39405
LOCATION: - China
BEGIN:VALARM
TRIGGER:-PT48H
REPEAT:4
DURATION:PT30M
ACTION:DISPLAY
END:VALARM
END:VEVENT
END:VCALENDAR