BEGIN:VCALENDAR
VERSION:2.0
PRODID:GlueUp
CALSCALE:GREGORIAN
BEGIN:VTIMEZONE
TZID:UTC
BEGIN:STANDARD
DTSTART:19700101T000000
TZOFFSETFROM:+0000
TZOFFSETTO:+0000
TZNAME:UTC
END:STANDARD
END:VTIMEZONE
BEGIN:VEVENT
TZ:+00
ORGANIZER;CN=Olivia He:MAILTO:oliviahe@woman-alliance.com
UID:38678-1776668937@https://woman-alliance.glueup.cn
DTSTAMP:20260420T070857Z
DTSTART:20221223T010000Z
DTEND:20221223T110000Z
SUMMARY:Unite for future
DESCRIPTION:Unite for future by 女性联盟 Women Alliance Group\n\nDecember 23, 2022\n9:00 AM - 7:00 PM(GMT+8)\n\nFor more information and to attend the online event, click here:\n\nEvent Website: https://woman-alliance.glueup.cn/my/events/38678\n\nEvent Link: https://woman-alliance.glueup.cn
LOCATION:https://woman-alliance.glueup.cn
BEGIN:VALARM
TRIGGER:-PT1H
REPEAT:4
DURATION:PT15M
ACTION:DISPLAY
END:VALARM
END:VEVENT
END:VCALENDAR